BEGIN:VCALENDAR
VERSION:2.0
PRODID:-//35 River Road - ECPv4.5.12.3//NONSGML v1.0//EN
CALSCALE:GREGORIAN
METHOD:PUBLISH
X-WR-CALNAME:35 River Road
X-ORIGINAL-URL:https://35riverroad.co.nz
X-WR-CALDESC:Events for 35 River Road
BEGIN:VEVENT
DTSTART;VALUE=DATE:20201218
DTEND;VALUE=DATE:20201228
DTSTAMP:20210118T201755
CREATED:20201026T194628Z
LAST-MODIFIED:20201026T194628Z
UID:958-1608249600-1609199999@35riverroad.co.nz
SUMMARY:unavailable
DESCRIPTION:
URL:https://35riverroad.co.nz/booking/unavailable-47/
END:VEVENT
BEGIN:VEVENT
DTSTART;VALUE=DATE:20201229
DTEND;VALUE=DATE:20210105
DTSTAMP:20210118T201755
CREATED:20200807T065510Z
LAST-MODIFIED:20200807T065510Z
UID:930-1609200000-1609891199@35riverroad.co.nz
SUMMARY:unavailable
DESCRIPTION:
URL:https://35riverroad.co.nz/booking/unavailable-30/
END:VEVENT
BEGIN:VEVENT
DTSTART;VALUE=DATE:20210107
DTEND;VALUE=DATE:20210109
DTSTAMP:20210118T201755
CREATED:20200820T093044Z
LAST-MODIFIED:20200820T093044Z
UID:938-1609977600-1610236799@35riverroad.co.nz
SUMMARY:unavailable
DESCRIPTION:
URL:https://35riverroad.co.nz/booking/unavailable-41/
END:VEVENT
BEGIN:VEVENT
DTSTART;VALUE=DATE:20210110
DTEND;VALUE=DATE:20210117
DTSTAMP:20210118T201755
CREATED:20201003T195809Z
LAST-MODIFIED:20201003T195809Z
UID:952-1610236800-1610927999@35riverroad.co.nz
SUMMARY:unavailable
DESCRIPTION:
URL:https://35riverroad.co.nz/booking/unavailable-45/
END:VEVENT
BEGIN:VEVENT
DTSTART;VALUE=DATE:20210118
DTEND;VALUE=DATE:20210121
DTSTAMP:20210118T201755
CREATED:20210115T034925Z
LAST-MODIFIED:20210115T034925Z
UID:990-1610928000-1611273599@35riverroad.co.nz
SUMMARY:unavailable
DESCRIPTION:
URL:https://35riverroad.co.nz/booking/unavailable-56/
END:VEVENT
BEGIN:VEVENT
DTSTART;VALUE=DATE:20210121
DTEND;VALUE=DATE:20210125
DTSTAMP:20210118T201755
CREATED:20200727T071727Z
LAST-MODIFIED:20200727T071727Z
UID:924-1611187200-1611619199@35riverroad.co.nz
SUMMARY:unavailable
DESCRIPTION:
URL:https://35riverroad.co.nz/booking/unavailable-38/
END:VEVENT
BEGIN:VEVENT
DTSTART;VALUE=DATE:20210127
DTEND;VALUE=DATE:20210131
DTSTAMP:20210118T201755
CREATED:20200916T064650Z
LAST-MODIFIED:20200916T064650Z
UID:948-1611705600-1612137599@35riverroad.co.nz
SUMMARY:unavailable
DESCRIPTION:
URL:https://35riverroad.co.nz/booking/unavailable-44/
END:VEVENT
END:VCALENDAR